BEGIN:VCALENDAR
VERSION:2.0
PRODID:-//Villa Serena - ECPv4.6.15//NONSGML v1.0//EN
CALSCALE:GREGORIAN
METHOD:PUBLISH
X-WR-CALNAME:Villa Serena
X-ORIGINAL-URL:https://www.villaserenacassino.it
X-WR-CALDESC:Events for Villa Serena
BEGIN:VEVENT
DTSTART;TZID=Europe/Rome:20161017T080000
DTEND;TZID=Europe/Rome:20161026T170000
DTSTAMP:20260424T100434
CREATED:20161010T085400Z
LAST-MODIFIED:20161010T085646Z
UID:3202-1476691200-1477501200@www.villaserenacassino.it
SUMMARY:Ottobre in Rosa -Visite Senologiche Gratuite
DESCRIPTION:Le cliniche del gruppo Neuromed si vestono di ROSA soprattutto ad Ottobre\, il mese dedicato alla prevenzione del tumore al Seno.  \nEcco il calendario delle visite gratuite nelle diverse strutture in Campania. \nSi inizia  ad ICM il 17 ottobre e sarà poi la volta di Villa dei Platani ad Avellino\, della clinica polispecialistica Casa di Cura Trusso ad Ottaviano\, per poi terminare a Salerno presso Villa del Sole. \nOccorre prenotare al numero di telefono segnalato per ogni singola struttura.  \nVi aspettiamo. #laprevenzioneèvita \n\n
URL:https://www.villaserenacassino.it/evento/ottobre-rosa-visite-senologiche-gratuite/
CATEGORIES:Eventi
END:VEVENT
END:VCALENDAR